BEGIN:VCALENDAR
VERSION:2.0
PRODID:-//Got2Lindy Dance Studios - ECPv6.15.20//NONSGML v1.0//EN
CALSCALE:GREGORIAN
METHOD:PUBLISH
X-WR-CALNAME:Got2Lindy Dance Studios
X-ORIGINAL-URL:https://www.got2lindy.com
X-WR-CALDESC:Events for Got2Lindy Dance Studios
REFRESH-INTERVAL;VALUE=DURATION:PT1H
X-Robots-Tag:noindex
X-PUBLISHED-TTL:PT1H
BEGIN:VTIMEZONE
TZID:America/New_York
BEGIN:DAYLIGHT
TZOFFSETFROM:-0500
TZOFFSETTO:-0400
TZNAME:EDT
DTSTART:20250309T070000
END:DAYLIGHT
BEGIN:STANDARD
TZOFFSETFROM:-0400
TZOFFSETTO:-0500
TZNAME:EST
DTSTART:20251102T060000
END:STANDARD
BEGIN:DAYLIGHT
TZOFFSETFROM:-0500
TZOFFSETTO:-0400
TZNAME:EDT
DTSTART:20260308T070000
END:DAYLIGHT
BEGIN:STANDARD
TZOFFSETFROM:-0400
TZOFFSETTO:-0500
TZNAME:EST
DTSTART:20261101T060000
END:STANDARD
BEGIN:DAYLIGHT
TZOFFSETFROM:-0500
TZOFFSETTO:-0400
TZNAME:EDT
DTSTART:20270314T070000
END:DAYLIGHT
BEGIN:STANDARD
TZOFFSETFROM:-0400
TZOFFSETTO:-0500
TZNAME:EST
DTSTART:20271107T060000
END:STANDARD
END:VTIMEZONE
BEGIN:VEVENT
DTSTART;TZID=America/New_York:20260421T180000
DTEND;TZID=America/New_York:20260421T210000
DTSTAMP:20260421T055633
CREATED:20260409T224527Z
LAST-MODIFIED:20260409T224528Z
UID:10003196-1776794400-1776805200@www.got2lindy.com
SUMMARY:KINGSTON Classes are in Session (4-wk series)
DESCRIPTION:All Kingston classes are currently in session for the four-week series. Check the calendar for dates and times for the next session or contact us to see if you can still join the current series.
URL:https://www.got2lindy.com/event/kingston-classes-are-in-session-4-wk-series-4-2-2/2026-04-21/
END:VEVENT
END:VCALENDAR